Package: basilisk.utils Version: 1.19.0 Command: rm -rf basilisk.utils.buildbin-libdir && mkdir basilisk.utils.buildbin-libdir && E:\biocbuild\bbs-3.21-bioc\R\bin\R.exe CMD INSTALL --build --library=basilisk.utils.buildbin-libdir basilisk.utils_1.19.0.tar.gz StartedAt: 2025-02-10 07:15:32 -0500 (Mon, 10 Feb 2025) EndedAt: 2025-02-10 07:16:19 -0500 (Mon, 10 Feb 2025) EllapsedTime: 46.5 seconds RetCode: 0 Status: OK PackageFile: basilisk.utils_1.19.0.zip PackageFileSize: 289.7 KiB