Package: basilisk.utils Version: 1.19.0 Command: E:\biocbuild\bbs-3.21-bioc\R\bin\R.exe CMD check --no-multiarch --install=check:basilisk.utils.install-out.txt --library=E:\biocbuild\bbs-3.21-bioc\R\library --no-vignettes --timings basilisk.utils_1.19.0.tar.gz StartedAt: 2025-02-09 22:48:45 -0500 (Sun, 09 Feb 2025) EndedAt: 2025-02-09 22:49:19 -0500 (Sun, 09 Feb 2025) EllapsedTime: 33.2 seconds RetCode: 0 Status: OK CheckDir: basilisk.utils.Rcheck Warnings: 0