Package: basilisk.utils Version: 1.19.0 Command: E:\biocbuild\bbs-3.21-bioc\R\bin\R.exe CMD INSTALL basilisk.utils StartedAt: 2025-02-09 15:26:36 -0500 (Sun, 09 Feb 2025) EndedAt: 2025-02-09 15:26:58 -0500 (Sun, 09 Feb 2025) EllapsedTime: 21.4 seconds RetCode: 0 Status: OK