Package: basilisk Version: 1.19.0 Command: /Library/Frameworks/R.framework/Resources/bin/R CMD check --install=check:basilisk.install-out.txt --library=/Library/Frameworks/R.framework/Resources/library --no-vignettes --timings basilisk_1.19.0.tar.gz StartedAt: 2025-02-09 18:09:45 -0500 (Sun, 09 Feb 2025) EndedAt: 2025-02-09 18:19:12 -0500 (Sun, 09 Feb 2025) EllapsedTime: 567.0 seconds RetCode: 0 Status: OK CheckDir: basilisk.Rcheck Warnings: 0