Package: basilisk Version: 1.19.0 Command: /home/biocbuild/R/R/bin/R CMD INSTALL basilisk StartedAt: 2025-01-29 19:35:43 -0000 (Wed, 29 Jan 2025) EndedAt: 2025-01-29 19:36:08 -0000 (Wed, 29 Jan 2025) EllapsedTime: 25.4 seconds RetCode: 0 Status: OK