Package: basilisk Version: 1.19.0 Command: /home/biocbuild/bbs-3.21-bioc/R/bin/R CMD build --keep-empty-dirs --no-resave-data basilisk StartedAt: 2025-02-09 16:14:43 -0500 (Sun, 09 Feb 2025) EndedAt: 2025-02-09 16:17:25 -0500 (Sun, 09 Feb 2025) EllapsedTime: 162.1 seconds RetCode: 0 Status: OK PackageFile: basilisk_1.19.0.tar.gz PackageFileSize: 263.6 KiB