Package: basilisk Version: 1.19.0 Command: /home/biocbuild/bbs-3.21-bioc/R/bin/R CMD INSTALL basilisk StartedAt: 2025-02-09 15:11:10 -0500 (Sun, 09 Feb 2025) EndedAt: 2025-02-09 15:11:27 -0500 (Sun, 09 Feb 2025) EllapsedTime: 17.1 seconds RetCode: 0 Status: OK