Package: basilisk Version: 1.19.0 Command: chmod a+r basilisk -R && E:\biocbuild\bbs-3.21-bioc\R\bin\R.exe CMD build --keep-empty-dirs --no-resave-data basilisk StartedAt: 2025-02-09 17:20:41 -0500 (Sun, 09 Feb 2025) EndedAt: 2025-02-09 17:21:09 -0500 (Sun, 09 Feb 2025) EllapsedTime: 28.0 seconds RetCode: 0 Status: OK PackageFile: basilisk_1.19.0.tar.gz PackageFileSize: 263.6 KiB