Package: bayNorm Version: 1.25.0 Command: rm -rf bayNorm.buildbin-libdir && mkdir bayNorm.buildbin-libdir && /Users/biocbuild/BBS/utils/build-universal.sh bayNorm_1.25.0.tar.gz /Library/Frameworks/R.framework/Resources/bin/R bayNorm.buildbin-libdir StartedAt: 2025-02-13 00:26:13 -0500 (Thu, 13 Feb 2025) EndedAt: 2025-02-13 00:27:09 -0500 (Thu, 13 Feb 2025) EllapsedTime: 56.6 seconds RetCode: 0 Status: OK PackageFile: bayNorm_1.25.0.tgz PackageFileSize: 480.1 KiB