Package: bayNorm Version: 1.25.0 Command: /home/biocbuild/bbs-3.21-bioc/R/bin/R CMD INSTALL bayNorm StartedAt: 2025-02-12 15:19:06 -0500 (Wed, 12 Feb 2025) EndedAt: 2025-02-12 15:19:51 -0500 (Wed, 12 Feb 2025) EllapsedTime: 44.7 seconds RetCode: 0 Status: OK