Package: bayNorm Version: 1.25.0 Command: chmod a+r bayNorm -R && E:\biocbuild\bbs-3.21-bioc\R\bin\R.exe CMD build --keep-empty-dirs --no-resave-data bayNorm StartedAt: 2025-02-09 17:21:26 -0500 (Sun, 09 Feb 2025) EndedAt: 2025-02-09 17:22:57 -0500 (Sun, 09 Feb 2025) EllapsedTime: 91.2 seconds RetCode: 0 Status: OK PackageFile: bayNorm_1.25.0.tar.gz PackageFileSize: 1.526 MiB