Package: bayNorm Version: 1.25.0 Command: E:\biocbuild\bbs-3.21-bioc\R\bin\R.exe CMD INSTALL bayNorm StartedAt: 2025-02-12 16:14:30 -0500 (Wed, 12 Feb 2025) EndedAt: 2025-02-12 16:17:37 -0500 (Wed, 12 Feb 2025) EllapsedTime: 186.8 seconds RetCode: 0 Status: OK