Package: baySeq Version: 2.41.0 Command: /Library/Frameworks/R.framework/Resources/bin/R CMD build --keep-empty-dirs --no-resave-data baySeq StartedAt: 2025-02-09 15:37:09 -0500 (Sun, 09 Feb 2025) EndedAt: 2025-02-09 15:39:06 -0500 (Sun, 09 Feb 2025) EllapsedTime: 117.2 seconds RetCode: 0 Status: OK PackageFile: baySeq_2.41.0.tar.gz PackageFileSize: 1.125 MiB