Package: baySeq Version: 2.41.0 Command: /Library/Frameworks/R.framework/Resources/bin/R CMD INSTALL baySeq StartedAt: 2025-02-12 15:04:11 -0500 (Wed, 12 Feb 2025) EndedAt: 2025-02-12 15:04:17 -0500 (Wed, 12 Feb 2025) EllapsedTime: 6.8 seconds RetCode: 0 Status: OK