Package: baySeq Version: 2.41.0 Command: rm -rf baySeq.buildbin-libdir && mkdir baySeq.buildbin-libdir && E:\biocbuild\bbs-3.21-bioc\R\bin\R.exe CMD INSTALL --build --library=baySeq.buildbin-libdir baySeq_2.41.0.tar.gz StartedAt: 2025-02-10 07:15:55 -0500 (Mon, 10 Feb 2025) EndedAt: 2025-02-10 07:16:32 -0500 (Mon, 10 Feb 2025) EllapsedTime: 36.5 seconds RetCode: 0 Status: OK PackageFile: baySeq_2.41.0.zip PackageFileSize: 1.613 MiB