Package: bcSeq Version: 1.29.0 Command: /Library/Frameworks/R.framework/Resources/bin/R CMD build --keep-empty-dirs --no-resave-data bcSeq StartedAt: 2025-02-09 15:37:39 -0500 (Sun, 09 Feb 2025) EndedAt: 2025-02-09 15:37:59 -0500 (Sun, 09 Feb 2025) EllapsedTime: 19.2 seconds RetCode: 0 Status: OK PackageFile: bcSeq_1.29.0.tar.gz PackageFileSize: 241.1 KiB