Package: bcSeq Version: 1.29.0 Command: /Library/Frameworks/R.framework/Resources/bin/R CMD INSTALL bcSeq StartedAt: 2025-02-12 15:04:01 -0500 (Wed, 12 Feb 2025) EndedAt: 2025-02-12 15:04:13 -0500 (Wed, 12 Feb 2025) EllapsedTime: 11.8 seconds RetCode: 0 Status: OK