Package: bcSeq Version: 1.29.0 Command: rm -rf bcSeq.buildbin-libdir && mkdir bcSeq.buildbin-libdir && /Users/biocbuild/BBS/utils/build-universal.sh bcSeq_1.29.0.tar.gz /Library/Frameworks/R.framework/Resources/bin/R bcSeq.buildbin-libdir StartedAt: 2025-02-13 00:26:20 -0500 (Thu, 13 Feb 2025) EndedAt: 2025-02-13 00:27:07 -0500 (Thu, 13 Feb 2025) EllapsedTime: 47.3 seconds RetCode: 0 Status: OK PackageFile: bcSeq_1.29.0.tgz PackageFileSize: 357.1 KiB