Package: bcSeq Version: 1.29.0 Command: /Library/Frameworks/R.framework/Resources/bin/R CMD INSTALL bcSeq StartedAt: 2025-02-09 15:09:33 -0500 (Sun, 09 Feb 2025) EndedAt: 2025-02-09 15:10:19 -0500 (Sun, 09 Feb 2025) EllapsedTime: 45.4 seconds RetCode: 0 Status: OK