Package: bcSeq Version: 1.29.0 Command: /home/biocbuild/bbs-3.21-bioc/R/bin/R CMD build --keep-empty-dirs --no-resave-data bcSeq StartedAt: 2025-02-09 16:16:10 -0500 (Sun, 09 Feb 2025) EndedAt: 2025-02-09 16:16:58 -0500 (Sun, 09 Feb 2025) EllapsedTime: 48.0 seconds RetCode: 0 Status: OK PackageFile: bcSeq_1.29.0.tar.gz PackageFileSize: 241 KiB