Package: bcSeq Version: 1.29.0 Command: chmod a+r bcSeq -R && E:\biocbuild\bbs-3.21-bioc\R\bin\R.exe CMD build --keep-empty-dirs --no-resave-data bcSeq StartedAt: 2025-02-09 17:21:57 -0500 (Sun, 09 Feb 2025) EndedAt: 2025-02-09 17:23:13 -0500 (Sun, 09 Feb 2025) EllapsedTime: 75.4 seconds RetCode: 1 Status: ERROR PackageFile: None PackageFileSize: NA