Package: bcSeq Version: 1.29.0 Command: E:\biocbuild\bbs-3.21-bioc\R\bin\R.exe CMD INSTALL bcSeq StartedAt: 2025-02-09 15:37:26 -0500 (Sun, 09 Feb 2025) EndedAt: 2025-02-09 15:38:08 -0500 (Sun, 09 Feb 2025) EllapsedTime: 42.0 seconds RetCode: 0 Status: OK