Package: beachmat.hdf5 Version: 1.5.1 Command: /Library/Frameworks/R.framework/Resources/bin/R CMD INSTALL beachmat.hdf5 StartedAt: 2025-02-12 15:04:38 -0500 (Wed, 12 Feb 2025) EndedAt: 2025-02-12 15:04:56 -0500 (Wed, 12 Feb 2025) EllapsedTime: 18.0 seconds RetCode: 0 Status: OK