Package: beachmat.hdf5 Version: 1.5.1 Command: /home/biocbuild/R/R/bin/R CMD check --install=check:beachmat.hdf5.install-out.txt --library=/home/biocbuild/R/R/site-library --no-vignettes --timings beachmat.hdf5_1.5.1.tar.gz StartedAt: 2025-01-28 03:45:33 -0000 (Tue, 28 Jan 2025) EndedAt: 2025-01-28 03:48:21 -0000 (Tue, 28 Jan 2025) EllapsedTime: 168.2 seconds RetCode: 0 Status: WARNINGS CheckDir: beachmat.hdf5.Rcheck Warnings: 1