Package: beachmat.hdf5 Version: 1.5.1 Command: /home/biocbuild/bbs-3.21-bioc/R/bin/R CMD INSTALL beachmat.hdf5 StartedAt: 2025-02-10 15:43:15 -0500 (Mon, 10 Feb 2025) EndedAt: 2025-02-10 15:44:22 -0500 (Mon, 10 Feb 2025) EllapsedTime: 67.0 seconds RetCode: 0 Status: OK