Package: beachmat.hdf5 Version: 1.5.1 Command: rm -rf beachmat.hdf5.buildbin-libdir && mkdir beachmat.hdf5.buildbin-libdir && E:\biocbuild\bbs-3.21-bioc\R\bin\R.exe CMD INSTALL --build --library=beachmat.hdf5.buildbin-libdir beachmat.hdf5_1.5.1.tar.gz StartedAt: 2025-02-13 07:27:42 -0500 (Thu, 13 Feb 2025) EndedAt: 2025-02-13 07:29:04 -0500 (Thu, 13 Feb 2025) EllapsedTime: 81.8 seconds RetCode: 0 Status: OK PackageFile: beachmat.hdf5_1.5.1.zip PackageFileSize: 1.946 MiB