Package: beachmat.tiledb Version: 0.99.1 Command: rm -rf beachmat.tiledb.buildbin-libdir && mkdir beachmat.tiledb.buildbin-libdir && /Users/biocbuild/BBS/utils/build-universal.sh beachmat.tiledb_0.99.1.tar.gz /Library/Frameworks/R.framework/Resources/bin/R beachmat.tiledb.buildbin-libdir StartedAt: 2025-02-10 00:43:03 -0500 (Mon, 10 Feb 2025) EndedAt: 2025-02-10 00:45:17 -0500 (Mon, 10 Feb 2025) EllapsedTime: 134.8 seconds RetCode: 0 Status: OK PackageFile: beachmat.tiledb_0.99.1.tgz PackageFileSize: 773.3 KiB