Package: beachmat.tiledb Version: 0.99.1 Command: /Library/Frameworks/R.framework/Resources/bin/R CMD build --keep-empty-dirs --no-resave-data beachmat.tiledb StartedAt: 2025-02-09 15:58:54 -0500 (Sun, 09 Feb 2025) EndedAt: 2025-02-09 16:00:50 -0500 (Sun, 09 Feb 2025) EllapsedTime: 116.3 seconds RetCode: 0 Status: OK PackageFile: beachmat.tiledb_0.99.1.tar.gz PackageFileSize: 321.9 KiB