Package: beachmat.tiledb Version: 0.99.1 Command: /Library/Frameworks/R.framework/Resources/bin/R CMD INSTALL beachmat.tiledb StartedAt: 2025-02-12 15:12:38 -0500 (Wed, 12 Feb 2025) EndedAt: 2025-02-12 15:14:40 -0500 (Wed, 12 Feb 2025) EllapsedTime: 121.8 seconds RetCode: 0 Status: OK