Package: beachmat.tiledb Version: 0.99.1 Command: /home/biocbuild/bbs-3.21-bioc/R/bin/R CMD check --install=check:beachmat.tiledb.install-out.txt --library=/home/biocbuild/bbs-3.21-bioc/R/site-library --timings beachmat.tiledb_0.99.1.tar.gz StartedAt: 2025-02-09 20:15:47 -0500 (Sun, 09 Feb 2025) EndedAt: 2025-02-09 20:18:27 -0500 (Sun, 09 Feb 2025) EllapsedTime: 160.2 seconds RetCode: 0 Status: WARNINGS CheckDir: beachmat.tiledb.Rcheck Warnings: 1