Package: beachmat Version: 2.23.6 Command: /Library/Frameworks/R.framework/Resources/bin/R CMD build --keep-empty-dirs --no-resave-data beachmat StartedAt: 2025-02-09 15:37:50 -0500 (Sun, 09 Feb 2025) EndedAt: 2025-02-09 15:38:53 -0500 (Sun, 09 Feb 2025) EllapsedTime: 62.6 seconds RetCode: 0 Status: OK PackageFile: beachmat_2.23.6.tar.gz PackageFileSize: 368.4 KiB