Package: beachmat Version: 2.23.6 Command: /Library/Frameworks/R.framework/Resources/bin/R CMD check --install=check:beachmat.install-out.txt --library=/Library/Frameworks/R.framework/Resources/library --no-vignettes --timings beachmat_2.23.6.tar.gz StartedAt: 2025-02-09 18:11:11 -0500 (Sun, 09 Feb 2025) EndedAt: 2025-02-09 18:13:44 -0500 (Sun, 09 Feb 2025) EllapsedTime: 152.8 seconds RetCode: 0 Status: WARNINGS CheckDir: beachmat.Rcheck Warnings: 1