Package: beachmat Version: 2.23.6 Command: /Library/Frameworks/R.framework/Resources/bin/R CMD INSTALL beachmat StartedAt: 2025-02-09 15:03:33 -0500 (Sun, 09 Feb 2025) EndedAt: 2025-02-09 15:04:32 -0500 (Sun, 09 Feb 2025) EllapsedTime: 59.1 seconds RetCode: 0 Status: OK