Package: beachmat Version: 2.23.6 Command: /home/biocbuild/R/R/bin/R CMD check --install=check:beachmat.install-out.txt --library=/home/biocbuild/R/R/site-library --no-vignettes --timings beachmat_2.23.6.tar.gz StartedAt: 2025-01-28 03:45:27 -0000 (Tue, 28 Jan 2025) EndedAt: 2025-01-28 03:52:48 -0000 (Tue, 28 Jan 2025) EllapsedTime: 441.5 seconds RetCode: 0 Status: WARNINGS CheckDir: beachmat.Rcheck Warnings: 1