Package: beachmat Version: 2.23.6 Command: /home/biocbuild/R/R/bin/R CMD INSTALL beachmat StartedAt: 2025-01-29 19:37:15 -0000 (Wed, 29 Jan 2025) EndedAt: 2025-01-29 19:44:15 -0000 (Wed, 29 Jan 2025) EllapsedTime: 420.0 seconds RetCode: 0 Status: OK