Package: beachmat Version: 2.23.6 Command: /home/biocbuild/bbs-3.21-bioc/R/bin/R CMD build --keep-empty-dirs --no-resave-data beachmat StartedAt: 2025-02-09 16:16:11 -0500 (Sun, 09 Feb 2025) EndedAt: 2025-02-09 16:21:13 -0500 (Sun, 09 Feb 2025) EllapsedTime: 302.2 seconds RetCode: 0 Status: OK PackageFile: beachmat_2.23.6.tar.gz PackageFileSize: 368.6 KiB