Package: beachmat Version: 2.23.6 Command: /home/biocbuild/bbs-3.21-bioc/R/bin/R CMD check --install=check:beachmat.install-out.txt --library=/home/biocbuild/bbs-3.21-bioc/R/site-library --timings beachmat_2.23.6.tar.gz StartedAt: 2025-02-09 20:14:49 -0500 (Sun, 09 Feb 2025) EndedAt: 2025-02-09 20:20:45 -0500 (Sun, 09 Feb 2025) EllapsedTime: 356.3 seconds RetCode: 0 Status: WARNINGS CheckDir: beachmat.Rcheck Warnings: 1