Package: beachmat Version: 2.23.6 Command: rm -rf beachmat.buildbin-libdir && mkdir beachmat.buildbin-libdir && E:\biocbuild\bbs-3.21-bioc\R\bin\R.exe CMD INSTALL --build --library=beachmat.buildbin-libdir beachmat_2.23.6.tar.gz StartedAt: 2025-02-10 07:16:11 -0500 (Mon, 10 Feb 2025) EndedAt: 2025-02-10 07:20:36 -0500 (Mon, 10 Feb 2025) EllapsedTime: 265.4 seconds RetCode: 0 Status: OK PackageFile: beachmat_2.23.6.zip PackageFileSize: 1.493 MiB