Package: beachmat Version: 2.23.6 Command: E:\biocbuild\bbs-3.21-bioc\R\bin\R.exe CMD check --no-multiarch --install=check:beachmat.install-out.txt --library=E:\biocbuild\bbs-3.21-bioc\R\library --no-vignettes --timings beachmat_2.23.6.tar.gz StartedAt: 2025-02-09 22:50:25 -0500 (Sun, 09 Feb 2025) EndedAt: 2025-02-09 22:58:38 -0500 (Sun, 09 Feb 2025) EllapsedTime: 492.3 seconds RetCode: 0 Status: WARNINGS CheckDir: beachmat.Rcheck Warnings: 1