Package: beachmat Version: 2.23.6 Command: E:\biocbuild\bbs-3.21-bioc\R\bin\R.exe CMD INSTALL beachmat StartedAt: 2025-02-09 15:53:10 -0500 (Sun, 09 Feb 2025) EndedAt: 2025-02-09 15:58:06 -0500 (Sun, 09 Feb 2025) EllapsedTime: 296.0 seconds RetCode: 0 Status: OK