Package: beadarray Version: 2.57.0 Command: /Library/Frameworks/R.framework/Resources/bin/R CMD INSTALL beadarray StartedAt: 2025-02-09 15:10:12 -0500 (Sun, 09 Feb 2025) EndedAt: 2025-02-09 15:10:22 -0500 (Sun, 09 Feb 2025) EllapsedTime: 9.8 seconds RetCode: 0 Status: OK