Package: beadarray Version: 2.57.0 Command: /home/biocbuild/R/R/bin/R CMD check --install=check:beadarray.install-out.txt --library=/home/biocbuild/R/R/site-library --no-vignettes --timings beadarray_2.57.0.tar.gz StartedAt: 2025-01-28 03:45:45 -0000 (Tue, 28 Jan 2025) EndedAt: 2025-01-28 03:53:28 -0000 (Tue, 28 Jan 2025) EllapsedTime: 463.6 seconds RetCode: 0 Status: OK CheckDir: beadarray.Rcheck Warnings: 0