Package: beadarray Version: 2.57.0 Command: /home/biocbuild/R/R/bin/R CMD INSTALL beadarray StartedAt: 2025-01-29 19:53:43 -0000 (Wed, 29 Jan 2025) EndedAt: 2025-01-29 19:54:21 -0000 (Wed, 29 Jan 2025) EllapsedTime: 38.2 seconds RetCode: 0 Status: OK