Package: beadarray Version: 2.57.0 Command: /Library/Frameworks/R.framework/Resources/bin/R CMD INSTALL beadarray StartedAt: 2025-02-09 15:22:35 -0500 (Sun, 09 Feb 2025) EndedAt: 2025-02-09 15:23:17 -0500 (Sun, 09 Feb 2025) EllapsedTime: 42.1 seconds RetCode: 0 Status: OK