Package: beadarray Version: 2.57.0 Command: /home/biocbuild/bbs-3.21-bioc/R/bin/R CMD build --keep-empty-dirs --no-resave-data beadarray StartedAt: 2025-02-04 16:15:04 -0500 (Tue, 04 Feb 2025) EndedAt: 2025-02-04 16:17:43 -0500 (Tue, 04 Feb 2025) EllapsedTime: 159.1 seconds RetCode: 0 Status: OK PackageFile: beadarray_2.57.0.tar.gz PackageFileSize: 3.72 MiB