Package: beadarray Version: 2.57.0 Command: /home/biocbuild/bbs-3.21-bioc/R/bin/R CMD check --install=check:beadarray.install-out.txt --library=/home/biocbuild/bbs-3.21-bioc/R/site-library --timings beadarray_2.57.0.tar.gz StartedAt: 2025-02-04 20:13:22 -0500 (Tue, 04 Feb 2025) EndedAt: 2025-02-04 20:22:40 -0500 (Tue, 04 Feb 2025) EllapsedTime: 557.8 seconds RetCode: 0 Status: OK CheckDir: beadarray.Rcheck Warnings: 0