Package: beadarray Version: 2.57.0 Command: /home/biocbuild/bbs-3.21-bioc/R/bin/R CMD INSTALL beadarray StartedAt: 2025-02-04 15:27:43 -0500 (Tue, 04 Feb 2025) EndedAt: 2025-02-04 15:28:09 -0500 (Tue, 04 Feb 2025) EllapsedTime: 25.4 seconds RetCode: 0 Status: OK