Package: beadarray Version: 2.57.0 Command: rm -rf beadarray.buildbin-libdir && mkdir beadarray.buildbin-libdir && E:\biocbuild\bbs-3.21-bioc\R\bin\R.exe CMD INSTALL --build --library=beadarray.buildbin-libdir beadarray_2.57.0.tar.gz StartedAt: 2025-02-10 07:16:16 -0500 (Mon, 10 Feb 2025) EndedAt: 2025-02-10 07:18:14 -0500 (Mon, 10 Feb 2025) EllapsedTime: 118.1 seconds RetCode: 0 Status: OK PackageFile: beadarray_2.57.0.zip PackageFileSize: 4.774 MiB