Package: beadarray Version: 2.57.0 Command: chmod a+r beadarray -R && E:\biocbuild\bbs-3.21-bioc\R\bin\R.exe CMD build --keep-empty-dirs --no-resave-data beadarray StartedAt: 2025-02-09 17:22:25 -0500 (Sun, 09 Feb 2025) EndedAt: 2025-02-09 17:27:14 -0500 (Sun, 09 Feb 2025) EllapsedTime: 288.6 seconds RetCode: 0 Status: OK PackageFile: beadarray_2.57.0.tar.gz PackageFileSize: 2.617 MiB