Package: beer Version: 1.11.0 Command: rm -rf beer.buildbin-libdir && mkdir beer.buildbin-libdir && /Users/biocbuild/BBS/utils/build-universal.sh beer_1.11.0.tar.gz /Library/Frameworks/R.framework/Resources/bin/R beer.buildbin-libdir StartedAt: 2025-02-09 22:06:55 -0500 (Sun, 09 Feb 2025) EndedAt: 2025-02-09 22:07:08 -0500 (Sun, 09 Feb 2025) EllapsedTime: 13.3 seconds RetCode: 0 Status: OK PackageFile: beer_1.11.0.tgz PackageFileSize: 706.4 KiB